BEGIN:VCALENDAR
VERSION:2.0
PRODID:-//RSG Lebring - ECPv6.15.17.1//NONSGML v1.0//EN
CALSCALE:GREGORIAN
METHOD:PUBLISH
X-WR-CALNAME:RSG Lebring
X-ORIGINAL-URL:https://rsglebring.at
X-WR-CALDESC:Veranstaltungen für RSG Lebring
REFRESH-INTERVAL;VALUE=DURATION:PT1H
X-Robots-Tag:noindex
X-PUBLISHED-TTL:PT1H
BEGIN:VTIMEZONE
TZID:Europe/Vienna
BEGIN:DAYLIGHT
TZOFFSETFROM:+0100
TZOFFSETTO:+0200
TZNAME:CEST
DTSTART:20220327T010000
END:DAYLIGHT
BEGIN:STANDARD
TZOFFSETFROM:+0200
TZOFFSETTO:+0100
TZNAME:CET
DTSTART:20221030T010000
END:STANDARD
BEGIN:DAYLIGHT
TZOFFSETFROM:+0100
TZOFFSETTO:+0200
TZNAME:CEST
DTSTART:20230326T010000
END:DAYLIGHT
BEGIN:STANDARD
TZOFFSETFROM:+0200
TZOFFSETTO:+0100
TZNAME:CET
DTSTART:20231029T010000
END:STANDARD
BEGIN:DAYLIGHT
TZOFFSETFROM:+0100
TZOFFSETTO:+0200
TZNAME:CEST
DTSTART:20240331T010000
END:DAYLIGHT
BEGIN:STANDARD
TZOFFSETFROM:+0200
TZOFFSETTO:+0100
TZNAME:CET
DTSTART:20241027T010000
END:STANDARD
BEGIN:DAYLIGHT
TZOFFSETFROM:+0100
TZOFFSETTO:+0200
TZNAME:CEST
DTSTART:20250330T010000
END:DAYLIGHT
BEGIN:STANDARD
TZOFFSETFROM:+0200
TZOFFSETTO:+0100
TZNAME:CET
DTSTART:20251026T010000
END:STANDARD
BEGIN:DAYLIGHT
TZOFFSETFROM:+0100
TZOFFSETTO:+0200
TZNAME:CEST
DTSTART:20260329T010000
END:DAYLIGHT
BEGIN:STANDARD
TZOFFSETFROM:+0200
TZOFFSETTO:+0100
TZNAME:CET
DTSTART:20261025T010000
END:STANDARD
END:VTIMEZONE
BEGIN:VEVENT
DTSTART;TZID=Europe/Vienna:20250501T093000
DTEND;TZID=Europe/Vienna:20250501T150000
DTSTAMP:20260422T162750
CREATED:20250428T141533Z
LAST-MODIFIED:20250428T141533Z
UID:10000515-1746091800-1746111600@rsglebring.at
SUMMARY:Radtage Lebring und Umgebung
DESCRIPTION:
URL:https://rsglebring.at/events/radtage-lebring-und-umgebung/
LOCATION:Brunnenplatz Lebring\, Hauptstraße 1\, Lebring\, Steiermark\, 8403\, Österreich
END:VEVENT
BEGIN:VEVENT
DTSTART;TZID=Europe/Vienna:20250413T103000
DTEND;TZID=Europe/Vienna:20250413T150000
DTSTAMP:20260422T162750
CREATED:20250119T093331Z
LAST-MODIFIED:20250412T075407Z
UID:10000497-1744540200-1744556400@rsglebring.at
SUMMARY:Dressen Auslüften
DESCRIPTION:
URL:https://rsglebring.at/events/dressen-auslueften-2/
LOCATION:Brunnenplatz Lebring\, Hauptstraße 1\, Lebring\, Steiermark\, 8403\, Österreich
END:VEVENT
BEGIN:VEVENT
DTSTART;TZID=Europe/Vienna:20230730T090000
DTEND;TZID=Europe/Vienna:20230730T140000
DTSTAMP:20260422T162750
CREATED:20230724T093108Z
LAST-MODIFIED:20230726T074059Z
UID:10000014-1690707600-1690725600@rsglebring.at
SUMMARY:Sonntagsausfahrt mit Präsident Franz
DESCRIPTION:Gemütliche Rennrad- und E-Bike Ausfahrt \n\n\n\nTreffpunkt: 9 Uhr Brunnenplatz Lebring \n\n\n\nStrecke: Heiligenkreuz – Schemerlhöhe – Vasoldsberg – Kalsdorf – Wildon Badesee
URL:https://rsglebring.at/events/sonntagsausfahrt-mit-praesident-franz/
LOCATION:Brunnenplatz Lebring\, Hauptstraße 1\, Lebring\, Steiermark\, 8403\, Österreich
END:VEVENT
BEGIN:VEVENT
DTSTART;TZID=Europe/Vienna:20230702T100000
DTEND;TZID=Europe/Vienna:20230702T130000
DTSTAMP:20260422T162750
CREATED:20230719T175345Z
LAST-MODIFIED:20230719T175345Z
UID:10000007-1688292000-1688302800@rsglebring.at
SUMMARY:Sonntagsausfahrt
DESCRIPTION:
URL:https://rsglebring.at/events/sonntagsausfahrt/
LOCATION:Brunnenplatz Lebring\, Hauptstraße 1\, Lebring\, Steiermark\, 8403\, Österreich
END:VEVENT
END:VCALENDAR