BEGIN:VCALENDAR
VERSION:2.0
PRODID:-//RSG Lebring - ECPv6.15.17.1//NONSGML v1.0//EN
CALSCALE:GREGORIAN
METHOD:PUBLISH
X-WR-CALNAME:RSG Lebring
X-ORIGINAL-URL:https://rsglebring.at
X-WR-CALDESC:Veranstaltungen für RSG Lebring
REFRESH-INTERVAL;VALUE=DURATION:PT1H
X-Robots-Tag:noindex
X-PUBLISHED-TTL:PT1H
BEGIN:VTIMEZONE
TZID:Europe/Vienna
BEGIN:DAYLIGHT
TZOFFSETFROM:+0100
TZOFFSETTO:+0200
TZNAME:CEST
DTSTART:20220327T010000
END:DAYLIGHT
BEGIN:STANDARD
TZOFFSETFROM:+0200
TZOFFSETTO:+0100
TZNAME:CET
DTSTART:20221030T010000
END:STANDARD
BEGIN:DAYLIGHT
TZOFFSETFROM:+0100
TZOFFSETTO:+0200
TZNAME:CEST
DTSTART:20230326T010000
END:DAYLIGHT
BEGIN:STANDARD
TZOFFSETFROM:+0200
TZOFFSETTO:+0100
TZNAME:CET
DTSTART:20231029T010000
END:STANDARD
BEGIN:DAYLIGHT
TZOFFSETFROM:+0100
TZOFFSETTO:+0200
TZNAME:CEST
DTSTART:20240331T010000
END:DAYLIGHT
BEGIN:STANDARD
TZOFFSETFROM:+0200
TZOFFSETTO:+0100
TZNAME:CET
DTSTART:20241027T010000
END:STANDARD
BEGIN:DAYLIGHT
TZOFFSETFROM:+0100
TZOFFSETTO:+0200
TZNAME:CEST
DTSTART:20250330T010000
END:DAYLIGHT
BEGIN:STANDARD
TZOFFSETFROM:+0200
TZOFFSETTO:+0100
TZNAME:CET
DTSTART:20251026T010000
END:STANDARD
BEGIN:DAYLIGHT
TZOFFSETFROM:+0100
TZOFFSETTO:+0200
TZNAME:CEST
DTSTART:20260329T010000
END:DAYLIGHT
BEGIN:STANDARD
TZOFFSETFROM:+0200
TZOFFSETTO:+0100
TZNAME:CET
DTSTART:20261025T010000
END:STANDARD
BEGIN:DAYLIGHT
TZOFFSETFROM:+0100
TZOFFSETTO:+0200
TZNAME:CEST
DTSTART:20270328T010000
END:DAYLIGHT
BEGIN:STANDARD
TZOFFSETFROM:+0200
TZOFFSETTO:+0100
TZNAME:CET
DTSTART:20271031T010000
END:STANDARD
END:VTIMEZONE
BEGIN:VEVENT
DTSTART;TZID=Europe/Vienna:20260406T100000
DTEND;TZID=Europe/Vienna:20260406T140000
DTSTAMP:20260422T125434
CREATED:20260326T143648Z
LAST-MODIFIED:20260326T143648Z
UID:10000529-1775469600-1775484000@rsglebring.at
SUMMARY:Dressen Auslüften
DESCRIPTION:
URL:https://rsglebring.at/events/dressen-auslueften-3/
LOCATION:Brunnenplatz Lebring\, Hauptstraße 1\, Lebring\, Steiermark\, 8403\, Österreich
END:VEVENT
BEGIN:VEVENT
DTSTART;TZID=Europe/Vienna:20251019T090000
DTEND;TZID=Europe/Vienna:20251019T140000
DTSTAMP:20260422T125434
CREATED:20250119T181954Z
LAST-MODIFIED:20250216T100742Z
UID:10000506-1760864400-1760882400@rsglebring.at
SUMMARY:Dressen Einmotten
DESCRIPTION:
URL:https://rsglebring.at/events/dressen-einmotten-2/
LOCATION:Brunnenplatz Lebring\, Hauptstraße 1\, Lebring\, Steiermark\, 8403\, Österreich
END:VEVENT
BEGIN:VEVENT
DTSTART;VALUE=DATE:20250711
DTEND;VALUE=DATE:20250714
DTSTAMP:20260422T125434
CREATED:20250119T094904Z
LAST-MODIFIED:20250119T094904Z
UID:10000504-1752192000-1752451199@rsglebring.at
SUMMARY:Vulcania
DESCRIPTION:
URL:https://rsglebring.at/events/vulcania/
LOCATION:Brunnenplatz Lebring\, Hauptstraße 1\, Lebring\, Steiermark\, 8403\, Österreich
END:VEVENT
BEGIN:VEVENT
DTSTART;TZID=Europe/Vienna:20250706T090000
DTEND;TZID=Europe/Vienna:20250706T140000
DTSTAMP:20260422T125434
CREATED:20250119T094811Z
LAST-MODIFIED:20250119T094811Z
UID:10000503-1751792400-1751810400@rsglebring.at
SUMMARY:Didi Gedenkfahrt
DESCRIPTION:
URL:https://rsglebring.at/events/didi-gedenkfahrt/
LOCATION:Brunnenplatz Lebring\, Hauptstraße 1\, Lebring\, Steiermark\, 8403\, Österreich
END:VEVENT
BEGIN:VEVENT
DTSTART;TZID=Europe/Vienna:20250629T080000
DTEND;TZID=Europe/Vienna:20250629T180000
DTSTAMP:20260422T125434
CREATED:20250119T094710Z
LAST-MODIFIED:20250119T094710Z
UID:10000502-1751184000-1751220000@rsglebring.at
SUMMARY:Ausfahrt Pohorje (SLO)
DESCRIPTION:
URL:https://rsglebring.at/events/ausfahrt-pohorje-slo/
LOCATION:Brunnenplatz Lebring\, Hauptstraße 1\, Lebring\, Steiermark\, 8403\, Österreich
END:VEVENT
BEGIN:VEVENT
DTSTART;TZID=Europe/Vienna:20250614T080000
DTEND;TZID=Europe/Vienna:20250614T180000
DTSTAMP:20260422T125434
CREATED:20250119T094313Z
LAST-MODIFIED:20250119T094313Z
UID:10000500-1749888000-1749924000@rsglebring.at
SUMMARY:Ausfahrt Jeruzalem (SLO)
DESCRIPTION:
URL:https://rsglebring.at/events/ausfahrt-jeruzalem-slo/
LOCATION:Brunnenplatz Lebring\, Hauptstraße 1\, Lebring\, Steiermark\, 8403\, Österreich
END:VEVENT
BEGIN:VEVENT
DTSTART;TZID=Europe/Vienna:20250518T090000
DTEND;TZID=Europe/Vienna:20250518T140000
DTSTAMP:20260422T125434
CREATED:20250119T093446Z
LAST-MODIFIED:20250119T093446Z
UID:10000498-1747558800-1747576800@rsglebring.at
SUMMARY:Ausfahrt Karnerberg
DESCRIPTION:
URL:https://rsglebring.at/events/ausfahrt-karnerberg/
LOCATION:Brunnenplatz Lebring\, Hauptstraße 1\, Lebring\, Steiermark\, 8403\, Österreich
END:VEVENT
BEGIN:VEVENT
DTSTART;TZID=Europe/Vienna:20250504T093000
DTEND;TZID=Europe/Vienna:20250504T150000
DTSTAMP:20260422T125434
CREATED:20250428T141733Z
LAST-MODIFIED:20250428T141733Z
UID:10000518-1746351000-1746370800@rsglebring.at
SUMMARY:Radtage Lebring und Umgebung
DESCRIPTION:
URL:https://rsglebring.at/events/radtage-lebring-und-umgebung-4/
LOCATION:Brunnenplatz Lebring\, Hauptstraße 1\, Lebring\, Steiermark\, 8403\, Österreich
END:VEVENT
BEGIN:VEVENT
DTSTART;TZID=Europe/Vienna:20250503T093000
DTEND;TZID=Europe/Vienna:20250503T150000
DTSTAMP:20260422T125434
CREATED:20250428T141704Z
LAST-MODIFIED:20250428T141704Z
UID:10000517-1746264600-1746284400@rsglebring.at
SUMMARY:Radtage Lebring und Umgebung
DESCRIPTION:
URL:https://rsglebring.at/events/radtage-lebring-und-umgebung-3/
LOCATION:Brunnenplatz Lebring\, Hauptstraße 1\, Lebring\, Steiermark\, 8403\, Österreich
END:VEVENT
BEGIN:VEVENT
DTSTART;TZID=Europe/Vienna:20250502T093000
DTEND;TZID=Europe/Vienna:20250502T150000
DTSTAMP:20260422T125434
CREATED:20250428T141628Z
LAST-MODIFIED:20250428T141628Z
UID:10000516-1746178200-1746198000@rsglebring.at
SUMMARY:Radtage Lebring und Umgebung
DESCRIPTION:
URL:https://rsglebring.at/events/radtage-lebring-und-umgebung-2/
LOCATION:Brunnenplatz Lebring\, Hauptstraße 1\, Lebring\, Steiermark\, 8403\, Österreich
END:VEVENT
BEGIN:VEVENT
DTSTART;TZID=Europe/Vienna:20250501T093000
DTEND;TZID=Europe/Vienna:20250501T150000
DTSTAMP:20260422T125434
CREATED:20250428T141533Z
LAST-MODIFIED:20250428T141533Z
UID:10000515-1746091800-1746111600@rsglebring.at
SUMMARY:Radtage Lebring und Umgebung
DESCRIPTION:
URL:https://rsglebring.at/events/radtage-lebring-und-umgebung/
LOCATION:Brunnenplatz Lebring\, Hauptstraße 1\, Lebring\, Steiermark\, 8403\, Österreich
END:VEVENT
BEGIN:VEVENT
DTSTART;TZID=Europe/Vienna:20250413T103000
DTEND;TZID=Europe/Vienna:20250413T150000
DTSTAMP:20260422T125434
CREATED:20250119T093331Z
LAST-MODIFIED:20250412T075407Z
UID:10000497-1744540200-1744556400@rsglebring.at
SUMMARY:Dressen Auslüften
DESCRIPTION:
URL:https://rsglebring.at/events/dressen-auslueften-2/
LOCATION:Brunnenplatz Lebring\, Hauptstraße 1\, Lebring\, Steiermark\, 8403\, Österreich
END:VEVENT
BEGIN:VEVENT
DTSTART;TZID=Europe/Vienna:20230730T090000
DTEND;TZID=Europe/Vienna:20230730T140000
DTSTAMP:20260422T125434
CREATED:20230724T093108Z
LAST-MODIFIED:20230726T074059Z
UID:10000014-1690707600-1690725600@rsglebring.at
SUMMARY:Sonntagsausfahrt mit Präsident Franz
DESCRIPTION:Gemütliche Rennrad- und E-Bike Ausfahrt \n\n\n\nTreffpunkt: 9 Uhr Brunnenplatz Lebring \n\n\n\nStrecke: Heiligenkreuz – Schemerlhöhe – Vasoldsberg – Kalsdorf – Wildon Badesee
URL:https://rsglebring.at/events/sonntagsausfahrt-mit-praesident-franz/
LOCATION:Brunnenplatz Lebring\, Hauptstraße 1\, Lebring\, Steiermark\, 8403\, Österreich
END:VEVENT
BEGIN:VEVENT
DTSTART;TZID=Europe/Vienna:20230702T100000
DTEND;TZID=Europe/Vienna:20230702T130000
DTSTAMP:20260422T125434
CREATED:20230719T175345Z
LAST-MODIFIED:20230719T175345Z
UID:10000007-1688292000-1688302800@rsglebring.at
SUMMARY:Sonntagsausfahrt
DESCRIPTION:
URL:https://rsglebring.at/events/sonntagsausfahrt/
LOCATION:Brunnenplatz Lebring\, Hauptstraße 1\, Lebring\, Steiermark\, 8403\, Österreich
END:VEVENT
END:VCALENDAR